BEGIN:VCALENDAR
VERSION:2.0
PRODID:-//volleyontour - ECPv6.8.3//NONSGML v1.0//EN
CALSCALE:GREGORIAN
METHOD:PUBLISH
X-ORIGINAL-URL:https://volleyontour.be
X-WR-CALDESC:Evenementen voor volleyontour
REFRESH-INTERVAL;VALUE=DURATION:PT1H
X-Robots-Tag:noindex
X-PUBLISHED-TTL:PT1H
BEGIN:VTIMEZONE
TZID:UTC
BEGIN:STANDARD
TZOFFSETFROM:+0000
TZOFFSETTO:+0000
TZNAME:UTC
DTSTART:20200101T000000
END:STANDARD
END:VTIMEZONE
BEGIN:VEVENT
DTSTART;TZID=UTC:20200830T150000
DTEND;TZID=UTC:20200830T170000
DTSTAMP:20260425T125318
CREATED:20200523T143355Z
LAST-MODIFIED:20200628T135853Z
UID:3518-1598799600-1598806800@volleyontour.be
SUMMARY:Liberotraining Lendelede
DESCRIPTION:Hier staat tekst over deze training.
URL:https://volleyontour.be/agenda/conditietraining-lendelede/
LOCATION:Sporthal Lendelede\, Steuren Ambacht 1\, Lendelede\, 8860\, België
CATEGORIES:Liberotraining
ATTACH;FMTTYPE=image/jpeg:https://volleyontour.be/wp-content/uploads/2020/05/agenda-liberotraining.jpg
END:VEVENT
END:VCALENDAR